BEGIN:VCALENDAR
VERSION:2.0
PRODID:icalendar-ruby
CALSCALE:GREGORIAN
BEGIN:VEVENT
DTSTAMP:20210119T214954Z
UID:6267ece3-c435-41b4-bfc9-5ed08fff753d
DTSTART;VALUE=DATE:20201203
DESCRIPTION:Property ID# 661237\, Time: 7:00PM
SUMMARY:Auction for 6 Hayes Street
END:VEVENT
END:VCALENDAR
